BEGIN:VCALENDAR
VERSION:2.0
PRODID:-//Xtreme Raceway Park - ECPv6.6.3//NONSGML v1.0//EN
CALSCALE:GREGORIAN
METHOD:PUBLISH
X-ORIGINAL-URL:https://www.xtremeracewaypark.com
X-WR-CALDESC:Events for Xtreme Raceway Park
REFRESH-INTERVAL;VALUE=DURATION:PT1H
X-Robots-Tag:noindex
X-PUBLISHED-TTL:PT1H
BEGIN:VTIMEZONE
TZID:America/Chicago
BEGIN:DAYLIGHT
TZOFFSETFROM:-0600
TZOFFSETTO:-0500
TZNAME:CDT
DTSTART:20200308T080000
END:DAYLIGHT
BEGIN:STANDARD
TZOFFSETFROM:-0500
TZOFFSETTO:-0600
TZNAME:CST
DTSTART:20201101T070000
END:STANDARD
END:VTIMEZONE
BEGIN:VEVENT
DTSTART;TZID=America/Chicago:20200327T160000
DTEND;TZID=America/Chicago:20200328T233000
DTSTAMP:20260419T140412
CREATED:20200311T195159Z
LAST-MODIFIED:20200318T151723Z
UID:2462-1585324800-1585438200@www.xtremeracewaypark.com
SUMMARY:Southern N/T Nationals 3 (CANCELED)
DESCRIPTION:
URL:https://www.xtremeracewaypark.com/event/southern-n-t-nationals-3/
LOCATION:Xtreme Raceway Park\, S I45\, 1800 N Fwy Service Rd\, Ferris\, TX\, 75125\, United States
CATEGORIES:Events
GEO:32.492104;-96.6634918
X-APPLE-STRUCTURED-LOCATION;VALUE=URI;X-ADDRESS=Xtreme Raceway Park S I45 1800 N Fwy Service Rd Ferris TX 75125 United States;X-APPLE-RADIUS=500;X-TITLE=S I45\, 1800 N Fwy Service Rd:geo:-96.6634918,32.492104
END:VEVENT
END:VCALENDAR